BEGIN:VCALENDAR
VERSION:2.0
PRODID:-//Föreningen för Andningspedagogi - ECPv6.5.1//NONSGML v1.0//EN
CALSCALE:GREGORIAN
METHOD:PUBLISH
X-WR-CALNAME:Föreningen för Andningspedagogi
X-ORIGINAL-URL:https://andning.info
X-WR-CALDESC:Events for Föreningen för Andningspedagogi
REFRESH-INTERVAL;VALUE=DURATION:PT1H
X-Robots-Tag:noindex
X-PUBLISHED-TTL:PT1H
BEGIN:VTIMEZONE
TZID:Europe/Stockholm
BEGIN:DAYLIGHT
TZOFFSETFROM:+0100
TZOFFSETTO:+0200
TZNAME:CEST
DTSTART:20240331T010000
END:DAYLIGHT
BEGIN:STANDARD
TZOFFSETFROM:+0200
TZOFFSETTO:+0100
TZNAME:CET
DTSTART:20241027T010000
END:STANDARD
END:VTIMEZONE
BEGIN:VEVENT
DTSTART;TZID=Europe/Stockholm:20241114T180000
DTEND;TZID=Europe/Stockholm:20241114T203000
DTSTAMP:20260421T124900
CREATED:20241022T074316Z
LAST-MODIFIED:20241022T074340Z
UID:1884-1731607200-1731616200@andning.info
SUMMARY:Pulsations Breath med Föreningen för andningspedagogik på Hälsans hus
DESCRIPTION:Välkommen att prova Pulsations Breath i Föreningen för andningspedagogiks regi!\n\nVi möts i lokal Terassen på Hälsans Hus\, Fjällgatan 23 i Stockholm. Dörrarna öppnar 17.45\, och passet inleds sedan med information och incheckning 18.00.  Kvällen avslutas med en frivillig delning och utcheckning.\n\nBoka din plats genom att mejla på sara (@) saramodig.se och swisha sedan din betalning till föreningen på nr 123 464 37 55. Behöver du annat betalningssätt meddelar du det i anmälan. Pris: 200 kr (150 kr för medlemmar i föreningen)\n\nAntalet platser är begränsat till 14 deltagare.\n\nVarmt välkommen!
URL:https://andning.info/event/pulsations-med-foreningen-for-andningspedagogik-pa-halsans-hus-4/
LOCATION:Hälsans Hus\, Fjällgatan 23\, Stockholm\, 11628\, Sverige
CATEGORIES:Event med Föreningen för andningspedagogik
END:VEVENT
END:VCALENDAR